BEGIN:VCALENDAR
VERSION:2.0
PRODID:icalendar-ruby
CALSCALE:GREGORIAN
METHOD:PUBLISH
BEGIN:VEVENT
DTSTAMP:20260422T161611Z
UID:120-173297@almjefferson.com
DTSTART:20260519T230000Z
DTEND:20260520T010000Z
CLASS:PUBLIC
CREATED:20260421T134529
DESCRIPTION:Women’s Night: Abide\nJoin us for a special Women’s Night o
 n May 19th at 6 PM for an evening of connection\, shared wisdom\, and fun 
 memories.\nThis month’s theme is “Abide” based on John 15:4—learni
 ng what it truly means to stay connected to God in every season of life. I
 nstead of a traditional message\, we’re excited to introduce a live pane
 l conversation featuring women in different stages of life who will share 
 real experiences\, practical wisdom\, and honest insight into walking with
  God!\nEnjoy a night filled with:\n\n\nDinner and fellowship\n\n\nFun acti
 vities\n\n\nA meaningful and engaging panel + Q&amp\;A\n\n\nWhether you’
 re in a busy season\, a waiting season\, or somewhere in between\, this ni
 ght is for you. Be encouraged\, refreshed\, and reminded that you don’t 
 have to do life alone.\nInvite a friend and join us!
LAST-MODIFIED:20260421T134529
LOCATION:1308 W Lincoln Way\, Jefferson\, IA
SUMMARY:Abide
URL;VALUE=URI:https://almjefferson.com/events/abide/2026-05-19
ATTACH;FILENAME=WOL-Abide-2.jpg;FMTTYPE=image/jpeg:https://dq5pwpg1q8ru0.cl
 oudfront.net/2026/04/21/18/45/29/60aa73a6-3242-49ad-8ff1-6c9a37301639/WOL-
 Abide-2.jpg
END:VEVENT
END:VCALENDAR
