BEGIN:VCALENDAR
VERSION:2.0
PRODID:icalendar-ruby
CALSCALE:GREGORIAN
METHOD:PUBLISH
BEGIN:VEVENT
DTSTAMP:20260422T144117Z
UID:121-173298@almjefferson.com
DTSTART:20260503T164500Z
DTEND:20260503T180000Z
CLASS:PUBLIC
CREATED:20260421T143022
DESCRIPTION:\n\n\n\n\n\n\nJoin us after service on May 3rd for a free taco 
 &amp\; nacho lunch! \nThis special meal is part of our ALM Kids Camp fundr
 aiser\, and our kids will be helping serve you that day! If you’d like t
 o support them\, we’ll have a freewill offering available at the door\, 
 with all proceeds going toward camp tuition.\nCome hungry\, stay for fello
 wship\, and help us invest in the next generation!\n\n\n\n\n\n\n\n\n\n\n\n
LAST-MODIFIED:20260421T143022
LOCATION:
SUMMARY:Kid's Camp Fundraiser
URL;VALUE=URI:https://almjefferson.com/events/kids-camp-fundraiser/2026-05-
 03
ATTACH;FILENAME=Cover.jpg;FMTTYPE=image/jpeg:https://dq5pwpg1q8ru0.cloudfro
 nt.net/2026/04/21/19/30/21/82a1493b-f108-4b49-9289-81d0b4eee071/Cover.jpg
END:VEVENT
END:VCALENDAR
